BEGIN:VCALENDAR
VERSION:2.0
PRODID:-//Gloucestershire Family History Society - ECPv6.15.20//NONSGML v1.0//EN
CALSCALE:GREGORIAN
METHOD:PUBLISH
X-WR-CALNAME:Gloucestershire Family History Society
X-ORIGINAL-URL:https://gfhs.org.uk
X-WR-CALDESC:Events for Gloucestershire Family History Society
REFRESH-INTERVAL;VALUE=DURATION:PT1H
X-Robots-Tag:noindex
X-PUBLISHED-TTL:PT1H
BEGIN:VTIMEZONE
TZID:Europe/London
BEGIN:DAYLIGHT
TZOFFSETFROM:+0000
TZOFFSETTO:+0100
TZNAME:BST
DTSTART:20200329T010000
END:DAYLIGHT
BEGIN:STANDARD
TZOFFSETFROM:+0100
TZOFFSETTO:+0000
TZNAME:GMT
DTSTART:20201025T010000
END:STANDARD
BEGIN:DAYLIGHT
TZOFFSETFROM:+0000
TZOFFSETTO:+0100
TZNAME:BST
DTSTART:20210328T010000
END:DAYLIGHT
BEGIN:STANDARD
TZOFFSETFROM:+0100
TZOFFSETTO:+0000
TZNAME:GMT
DTSTART:20211031T010000
END:STANDARD
BEGIN:DAYLIGHT
TZOFFSETFROM:+0000
TZOFFSETTO:+0100
TZNAME:BST
DTSTART:20220327T010000
END:DAYLIGHT
BEGIN:STANDARD
TZOFFSETFROM:+0100
TZOFFSETTO:+0000
TZNAME:GMT
DTSTART:20221030T010000
END:STANDARD
END:VTIMEZONE
BEGIN:VEVENT
DTSTART;TZID=Europe/London:20210324T130000
DTEND;TZID=Europe/London:20210324T140000
DTSTAMP:20260418T072018
CREATED:20210324T130000Z
LAST-MODIFIED:20210304T122447Z
UID:28205-1616590800-1616594400@gfhs.org.uk
SUMMARY:Secrets Revealed: The Census
DESCRIPTION:A leisurely lunchtime learning session led by the experienced team at Gloucestershire Archives revealing secrets of the past. \nFree but please book on the archives website
URL:https://gfhs.org.uk/event/secrets-revealed-the-census/
LOCATION:GA: Online Event
CATEGORIES:Interesting
END:VEVENT
END:VCALENDAR