BEGIN:VCALENDAR
VERSION:2.0
PRODID:-//Gloucestershire Family History Society - ECPv6.15.20//NONSGML v1.0//EN
CALSCALE:GREGORIAN
METHOD:PUBLISH
X-WR-CALNAME:Gloucestershire Family History Society
X-ORIGINAL-URL:https://gfhs.org.uk
X-WR-CALDESC:Events for Gloucestershire Family History Society
REFRESH-INTERVAL;VALUE=DURATION:PT1H
X-Robots-Tag:noindex
X-PUBLISHED-TTL:PT1H
BEGIN:VTIMEZONE
TZID:Europe/London
BEGIN:DAYLIGHT
TZOFFSETFROM:+0000
TZOFFSETTO:+0100
TZNAME:BST
DTSTART:20240331T010000
END:DAYLIGHT
BEGIN:STANDARD
TZOFFSETFROM:+0100
TZOFFSETTO:+0000
TZNAME:GMT
DTSTART:20241027T010000
END:STANDARD
BEGIN:DAYLIGHT
TZOFFSETFROM:+0000
TZOFFSETTO:+0100
TZNAME:BST
DTSTART:20250330T010000
END:DAYLIGHT
BEGIN:STANDARD
TZOFFSETFROM:+0100
TZOFFSETTO:+0000
TZNAME:GMT
DTSTART:20251026T010000
END:STANDARD
BEGIN:DAYLIGHT
TZOFFSETFROM:+0000
TZOFFSETTO:+0100
TZNAME:BST
DTSTART:20260329T010000
END:DAYLIGHT
BEGIN:STANDARD
TZOFFSETFROM:+0100
TZOFFSETTO:+0000
TZNAME:GMT
DTSTART:20261025T010000
END:STANDARD
END:VTIMEZONE
BEGIN:VEVENT
DTSTART;TZID=Europe/London:20250906T100000
DTEND;TZID=Europe/London:20250906T160000
DTSTAMP:20260419T004457
CREATED:20250804T160455Z
LAST-MODIFIED:20250827T082919Z
UID:57712-1757152800-1757174400@gfhs.org.uk
SUMMARY:Family History Fair
DESCRIPTION:Celebrate all things Family History with us\nWho doesn’t love a chance to share their enthusiasm\, whether steam trains\, football or especially family history\, with other like-minded souls? \nSo we in GFHS are absolutely delighted to host another Family History Fair between 10am and 4pm on Saturday 6 September. This is one of the ever-popular monthly Heritage Hub Open Days which will give you the chance to discover something new\, whether you are just getting started with your research or want to find more details about your ancestors’ lives or the area in which you live. \nOur own volunteers will be on hand to talk about some of the projects we’ve been working on in the last year\, especially the Gloucestershire Mariners’ project funded by Lloyds Register Foundation. Led by local historian Tony Conder this project is exploring Gloucestershire’s maritime history and the families involved in it. We’ve researched some of those families unearthing many amazing stories along the way which Tony is using in his display at the Gloucester History Festival later in September. We’ll also be able to tell you about our long-running projects to index the local civil registration records (BMDs) and survey the county graveyards and War Memorials. \nA problem shared…\nDrop into our Research Centre to discover how to get your family journey off to the best start. If you’ve hit a ‘brick wall’ with your research and aren’t sure what to do next – our volunteers will be happy to try to help. If you’ve already done the FH basics but want to find out more about your ancestors’ lives or you’re keen to investigate the area in which you\, yourself\, are living – just ask us. \nNo problem if your family isn’t local. Many of the online resources in the Centre cover the whole world and we’re also FamilySearch Affiliate Library which gives access to a huge variety of information. \nIf DNA puzzles you\, make an appointment for a short advice session. \nBe inspired\nFH Societies from the neighbouring counties – Bristol & Avon\, Malvern\, Somerset & Dorset and Wiltshire – and other heritage groups will be there to offer their specialist help and advice. \nWe are also very grateful to the staff from Gloucestershire Archives who will be providing behind-the-scenes tours\, advice about preserving family memorabilia and a display of some of the Archives own treasures. \nTalks\n\n\n11.00am – Simon Davies talking about\, and demonstrating\, WeAre.xyz\nThis is a new platform for storing and sharing family and local history research. A chance to learn about the latest developments! \nBook now for Simon’s Talk – via the Heritage Hub website\n  \n1.30pm – Dr Janet Few \,talking about some of the less well-known sources for family history\nJanet is a family\, local and community historian\, author and current\nPresident of the Family History Federation\, Her talk will offer something new for everyone! \nBook now for Janet’s talk – via the Heritage Hub website
URL:https://gfhs.org.uk/event/family-history-fair/
LOCATION:Heritage Hub\, Clarence Row\, Alvin Street\, Gloucester\, GL1 3DW.\, United Kingdom
CATEGORIES:GFHS live event
ORGANIZER;CN="GFHS":MAILTO:events@gfhs.org.uk
END:VEVENT
END:VCALENDAR