BEGIN:VCALENDAR
VERSION:2.0
PRODID:-//Gloucestershire Family History Society - ECPv6.15.20//NONSGML v1.0//EN
CALSCALE:GREGORIAN
METHOD:PUBLISH
X-ORIGINAL-URL:https://gfhs.org.uk
X-WR-CALDESC:Events for Gloucestershire Family History Society
REFRESH-INTERVAL;VALUE=DURATION:PT1H
X-Robots-Tag:noindex
X-PUBLISHED-TTL:PT1H
BEGIN:VTIMEZONE
TZID:Europe/London
BEGIN:DAYLIGHT
TZOFFSETFROM:+0000
TZOFFSETTO:+0100
TZNAME:BST
DTSTART:20240331T010000
END:DAYLIGHT
BEGIN:STANDARD
TZOFFSETFROM:+0100
TZOFFSETTO:+0000
TZNAME:GMT
DTSTART:20241027T010000
END:STANDARD
BEGIN:DAYLIGHT
TZOFFSETFROM:+0000
TZOFFSETTO:+0100
TZNAME:BST
DTSTART:20250330T010000
END:DAYLIGHT
BEGIN:STANDARD
TZOFFSETFROM:+0100
TZOFFSETTO:+0000
TZNAME:GMT
DTSTART:20251026T010000
END:STANDARD
BEGIN:DAYLIGHT
TZOFFSETFROM:+0000
TZOFFSETTO:+0100
TZNAME:BST
DTSTART:20260329T010000
END:DAYLIGHT
BEGIN:STANDARD
TZOFFSETFROM:+0100
TZOFFSETTO:+0000
TZNAME:GMT
DTSTART:20261025T010000
END:STANDARD
END:VTIMEZONE
BEGIN:VEVENT
DTSTART;TZID=Europe/London:20251026T100000
DTEND;TZID=Europe/London:20251026T160000
DTSTAMP:20260421T121059
CREATED:20250804T164000Z
LAST-MODIFIED:20250804T164530Z
UID:57714-1761472800-1761494400@gfhs.org.uk
SUMMARY:Oxfordshire Family History Society Fair
DESCRIPTION:[vc_single_image image=”45231″]If you are one of our members near to Oxford or if you are interested in ancestors in Gloucestershire then come and meet us at the Fair. \nAll the details about the Fair and how to get there. \n[vc_single_image image=”57717″ img_size=”full” css=””]
URL:https://gfhs.org.uk/event/oxfordshire-family-history-society-fair-2/
LOCATION:Cherwell School North\, Marston Ferry Road\, Oxford\, OX2 7EE\, United Kingdom
CATEGORIES:GFHS Attending
END:VEVENT
END:VCALENDAR