BEGIN:VCALENDAR
VERSION:2.0
PRODID:-//Gloucestershire Family History Society - ECPv6.15.20//NONSGML v1.0//EN
CALSCALE:GREGORIAN
METHOD:PUBLISH
X-WR-CALNAME:Gloucestershire Family History Society
X-ORIGINAL-URL:https://gfhs.org.uk
X-WR-CALDESC:Events for Gloucestershire Family History Society
REFRESH-INTERVAL;VALUE=DURATION:PT1H
X-Robots-Tag:noindex
X-PUBLISHED-TTL:PT1H
BEGIN:VTIMEZONE
TZID:Europe/London
BEGIN:DAYLIGHT
TZOFFSETFROM:+0000
TZOFFSETTO:+0100
TZNAME:BST
DTSTART:20240331T010000
END:DAYLIGHT
BEGIN:STANDARD
TZOFFSETFROM:+0100
TZOFFSETTO:+0000
TZNAME:GMT
DTSTART:20241027T010000
END:STANDARD
BEGIN:DAYLIGHT
TZOFFSETFROM:+0000
TZOFFSETTO:+0100
TZNAME:BST
DTSTART:20250330T010000
END:DAYLIGHT
BEGIN:STANDARD
TZOFFSETFROM:+0100
TZOFFSETTO:+0000
TZNAME:GMT
DTSTART:20251026T010000
END:STANDARD
BEGIN:DAYLIGHT
TZOFFSETFROM:+0000
TZOFFSETTO:+0100
TZNAME:BST
DTSTART:20260329T010000
END:DAYLIGHT
BEGIN:STANDARD
TZOFFSETFROM:+0100
TZOFFSETTO:+0000
TZNAME:GMT
DTSTART:20261025T010000
END:STANDARD
END:VTIMEZONE
BEGIN:VEVENT
DTSTART;TZID=Europe/London:20250913T100000
DTEND;TZID=Europe/London:20250913T160000
DTSTAMP:20260421T121138
CREATED:20250824T140132Z
LAST-MODIFIED:20250824T140535Z
UID:57838-1757757600-1757779200@gfhs.org.uk
SUMMARY:Bristol and Avon Family History Society Fair
DESCRIPTION:If you are one of our members near to Bristol or if you are interested in ancestors in Gloucestershire then come and meet us at the Fair. \nAll the details about the Fair and how to get there. \n[vc_single_image image=”57841″ img_size=”full” css=””]
URL:https://gfhs.org.uk/event/bristol-and-avon-family-history-society-fair/
LOCATION:Turnberries Community Centre\, Bath Road\, Thornbury\, Bristol\, BS35 2BB\, United Kingdom
CATEGORIES:GFHS Attending
END:VEVENT
BEGIN:VEVENT
DTSTART;TZID=Europe/London:20250916T140000
DTEND;TZID=Europe/London:20250916T160000
DTSTAMP:20260421T121138
CREATED:20250824T155858Z
LAST-MODIFIED:20250824T155858Z
UID:57849-1758031200-1758038400@gfhs.org.uk
SUMMARY:Researching in Gloucestershire
DESCRIPTION:This is a collaboration between Society of Genealogists\, Gloucestershire Heritage Hub and Gloucestershire Family History Society (GFHS). Join us to learn about family history resources for Gloucestershire.\n \nMia Bennett\, Chair of GFHS\, will showcase the resources at the GFHS Family History Centre and other online sources available for researching in Gloucestershire.  She will explore what GFHS has to offer to people researching Gloucestershire ancestors as well as researchers who are based in Gloucestershire and want to research anywhere in the world \nJohn Putney\, Community Heritage Officer\, will be focusing on the ‘Treasures of Gloucestershire Archives’ \nMore detail and booking on the event website.
URL:https://gfhs.org.uk/event/researching-in-gloucestershire/
LOCATION:Other Online
CATEGORIES:GFHS Attending
END:VEVENT
END:VCALENDAR